BEGIN:VCALENDAR
VERSION:2.0
PRODID:-//Беговой клуб Run4Fun.by - ECPv4.7.4//NONSGML v1.0//EN
CALSCALE:GREGORIAN
METHOD:PUBLISH
X-WR-CALNAME:Беговой клуб Run4Fun.by
X-ORIGINAL-URL:https://run4fun.by
X-WR-CALDESC:Events for Беговой клуб Run4Fun.by
BEGIN:VEVENT
DTSTART;VALUE=DATE:20200208
DTEND;VALUE=DATE:20200209
DTSTAMP:20260423T200928
CREATED:20190116T102311Z
LAST-MODIFIED:20191121T190515Z
UID:4228-1581120000-1581206399@run4fun.by
SUMMARY:Bieg Pamięci Sybiru 2020
DESCRIPTION:В морозную зимнюю ночь\, с 9 на 10 февраля 1940 года\, из бывших земель Второй Польской Республики более 140 000 польских граждан были вывезены вглубь Советского Союза. Это была первая из четырех массовых депортаций\, в ходе которых несколько десятков тысяч жителей Белостока и окрестностей были вывезены в Сибирь и Казахстан. Практически каждый пятый житель Белостока «исчез» из своей квартиры\, многоквартирного дома\, дома … \nЧтобы почтить память жертв событий\, имевших место 80 лет назад\, и почтить память о них\, Мемориальный музей Сибирь и Фонд «Белостокский бег» организуют 2. Пробег памяти Сибири. \nЗАДАЧА \n1.Почтить память о жертвах и сохранение памяти о депортациях с февраля 1940 года.\n2.Содействие бегу как простейшей форме движения.\n3.Продвижение физической активности и здорового образа жизни.\n4.Распространение идеи волонтерства. \nЗабег будет проходить в лесной местности на дистанцию около 5 км начнется после наступления темноты 8 февраля 2020 г. Реконструкторы\, актеры\, экспонаты\, звуковые и световые эффекты на протяжении всего маршрута заставят его надолго остаться в памяти. \n  \n
URL:https://run4fun.by/event/bieg-pamieci-sybiru-2019/
LOCATION:Белосток\, Белосток\, Польша
CATEGORIES:5км
ATTACH;FMTTYPE=image/jpeg:https://run4fun.by/wp-content/uploads/2019/01/bieg-sybiru.jpg
END:VEVENT
END:VCALENDAR