BEGIN:VCALENDAR
VERSION:2.0
PRODID:-//Беговой клуб Run4Fun.by - ECPv4.7.4//NONSGML v1.0//EN
CALSCALE:GREGORIAN
METHOD:PUBLISH
X-WR-CALNAME:Беговой клуб Run4Fun.by
X-ORIGINAL-URL:https://run4fun.by
X-WR-CALDESC:Events for Беговой клуб Run4Fun.by
BEGIN:VEVENT
DTSTART;TZID=UTC+3:20240114T110000
DTEND;TZID=UTC+3:20240114T133000
DTSTAMP:20260423T184720
CREATED:20240103T140641Z
LAST-MODIFIED:20240103T140641Z
UID:6676-1705230000-1705239000@run4fun.by
SUMMARY:Grodno City Trail. 2 этап - Погораны
DESCRIPTION:Формат и группы \nГруппы: мужчины 5 км (М5)\, женщины 5 км (Ж5). \n              мужчины 10 км (М10)\, женщины 10 км (Ж10). \nТрасса для групп М10 и Ж10 одинаковая\, длиной примерно 10 км. Трасса каждого этапа будет проходить по грунтовым дорогам\, тропинкам и бездорожью с перепадом высоты на склоне до 50 метров. \nДля начинающих любителей трейлраннинга будет подготовлена дистанция длиной 5 км. \nСтарт всех участников в 11.00. \nЗаявка \n\nЧерез форму регистрации\, которая доступна на сайте by в разделе каждого этапа.\nЧерез электронную почту dmitrykrapivko@gmail.com (в теме письма указывайте “регистрация на Grodno City Trail ”)\nПри отсутствии возможности заявиться по ссылке или по почте\, заявки принимаются по телефону: +375 29 5664479– Дмитрий Крапивко.\n\nОрганизационный взнос \n\n50 руб. за каждый этап. В стартовый пакет участника входит: электронный хронометраж\, online результаты\, номер участника\, медаль на финише\, работа фотографа\, сувенир от организаторов.\n\nОрганизационный взнос идет на покрытие затрат организатора. \nПодведение итогов \nИтоги серии трейловых забегов подводятся в каждой группе по наименьшей сумме времени всех 3-х этапов. \nЛидеры рейтинга на дистанции 10 км по сумме 3-х этапов награждаются ценными призами. \nЛидеры рейтинга на дистанции 5 км по сумме 3-х этапов награждаются ценными призами \nКонтактная информация \nМы в Facebook \nE-mail: dmitrykrapivko@gmail.com \n
URL:https://run4fun.by/event/grodno-city-trail-2-etap-pogorany/
LOCATION:Гродно\, Погораны
CATEGORIES:10 км,5 км
ATTACH;FMTTYPE=image/jpeg:https://run4fun.by/wp-content/uploads/2024/01/city-2024-2.jpg
END:VEVENT
END:VCALENDAR