BEGIN:VCALENDAR
VERSION:2.0
PRODID:-//Беговой клуб Run4Fun.by - ECPv4.7.4//NONSGML v1.0//EN
CALSCALE:GREGORIAN
METHOD:PUBLISH
X-WR-CALNAME:Беговой клуб Run4Fun.by
X-ORIGINAL-URL:https://run4fun.by
X-WR-CALDESC:Events for Беговой клуб Run4Fun.by
BEGIN:VEVENT
DTSTART;TZID=UTC+3:20240218T110000
DTEND;TZID=UTC+3:20240218T133000
DTSTAMP:20260423T184114
CREATED:20240103T140641Z
LAST-MODIFIED:20240125T092802Z
UID:6777-1708254000-1708263000@run4fun.by
SUMMARY:Grodno City Trail. 3 этап - Меловые горы
DESCRIPTION:Положение о проведении серии тренировочных стартов по бегу на пересеченной местности в г.Гродно \nВремя и место \nТренировочные старты проводятся с 10 декабря 2023 по 11 февраля 2024. \n\n\n\n№ этапа\nДата\nДень недели\nНазвание этапа\n\n\n1\n10.12.2023\nВоскресенье\n                   «Неман»\n\n\n2\n14.01.2024\nВоскресенье\n                «Погораны»\n\n\n3\n18.02.2024\nВоскресенье\n             «Меловые горы»\n\n\n\nФормат и группы \nГруппы: мужчины 5 км (М5)\, женщины 5км (Ж5). \n              мужчины 10 км (М10)\, женщины 10км (Ж10). \nТрасса для групп М10 и Ж10 одинаковая\, длиной примерно 10 км. Трасса каждого этапа будет проходить по грунтовым дорогам\, тропинкам и бездорожью с перепадом высоты на склоне до 50 метров. \nДля начинающих любителей трейлраннинга будет подготовлена дистанция длиной 5 км. \nСтарт всех участников в 11.00. \nЗаявка \n\nЧерез форму регистрации\, которая доступна на сайте 42195.by в разделе каждого этапа.\nЧерез электронную почту dmitrykrapivko@gmail.com (в теме письма указывайте “регистрация на Grodno City Trail ”)\nПри отсутствии возможности заявиться по ссылке или по почте\, заявки принимаются по телефону: +375 29 5664479 – Дмитрий Крапивко.\n\nОрганизационный взнос \n\n50 руб. за каждый этап. В стартовый пакет участника входит: электронный хронометраж\, online результаты\, номер участника\, медаль на финише\, работа фотографа\, сувенир от организаторов.\n\nОрганизационный взнос идет на покрытие затрат организатора. \nПодведение итогов \nИтоги серии трейловых забегов подводятся в каждой группе по наименьшей сумме времени всех 3-х этапов.  \nЛидеры рейтинга на дистанции 10 км по сумме 3-х этапов награждаются ценными призами. \nЛидеры рейтинга на дистанции 5 км по сумме 3-х этапов награждаются ценными призами \nКонтактная информация \nE-mail: dmitrykrapivko@gmail.com \nДополнительная информация здесь. \n
URL:https://run4fun.by/event/grodno-city-trail-3-etap-melovye-gory/
LOCATION:Гродно\, Меловые горы
CATEGORIES:10 км,5 км
ATTACH;FMTTYPE=image/jpeg:https://run4fun.by/wp-content/uploads/2024/01/city-2024-2.jpg
END:VEVENT
END:VCALENDAR