BEGIN:VCALENDAR
VERSION:2.0
PRODID:-//Беговой клуб Run4Fun.by - ECPv4.7.4//NONSGML v1.0//EN
CALSCALE:GREGORIAN
METHOD:PUBLISH
X-WR-CALNAME:Беговой клуб Run4Fun.by
X-ORIGINAL-URL:https://run4fun.by
X-WR-CALDESC:Events for Беговой клуб Run4Fun.by
BEGIN:VEVENT
DTSTART;VALUE=DATE:20191229
DTEND;VALUE=DATE:20191230
DTSTAMP:20260423T182027
CREATED:20191202T100817Z
LAST-MODIFIED:20191202T100817Z
UID:5721-1577577600-1577663999@run4fun.by
SUMMARY:Карнавальный пробег
DESCRIPTION:ПОЛОЖЕНИЕ\nо проведении легкоатлетического карнавального пробега\nЗаводского района г. Минска\n \n1. Цели и задачи: \n— пропаганда здорового образа жизни и оздоровительного бега\, создание праздничного новогоднего настроения среди жителей Заводского и других районов г. Минска\, иногородних участников;\n— привлечение детей и подростков к занятию оздоровительным бегом. \n2.Время и место проведения: \nПробег проводится 29 декабря 2019 года в г. Минске.\nДистанции 1 и 12 км. \nПроезд к месту регистрации автобусами № 22\, 59 и троллейбусами № 16\, 49\, 92 до ост. «Чижовка-Арена». \n3. Руководство проведением соревнований: \nОбщее руководство подготовкой и проведением соревнований осуществляет ГУ «ЦФОР Заводского района г.Минска»\, КЛБ «Аматар». \nНепосредственное проведение соревнований возлагается на главную судейскую коллегию. \n4. Программа соревнований: \nПробег проводится на дистанциях 1 и 12 км. К участию в соревнованиях допускаются все желающие без ограничения возраста. Приветствуются участники пробега в карнавальных костюмах. \nТоржественное открытие пробега в 10.40 возле Новогодней Ёлки в районе «Чижовка-Арены». Старт в 11.00 на дистанции 1 км\, в 11.15 на дистанции 12 км. Количество забегов на 1 км определяется судейской коллегией на месте в зависимости от числа зарегистрированных участников. Старт на 12 км общий. \n
URL:https://run4fun.by/event/karnavalnyj-probeg/
LOCATION:Минск\, Минск\, Беларусь
CATEGORIES:1,12 км
ATTACH;FMTTYPE=image/jpeg:https://run4fun.by/wp-content/uploads/2019/12/карнавальныйпробег.jpg
END:VEVENT
END:VCALENDAR