BEGIN:VCALENDAR
VERSION:2.0
PRODID:-//Беговой клуб Run4Fun.by - ECPv4.7.4//NONSGML v1.0//EN
CALSCALE:GREGORIAN
METHOD:PUBLISH
X-WR-CALNAME:Беговой клуб Run4Fun.by
X-ORIGINAL-URL:https://run4fun.by
X-WR-CALDESC:Events for Беговой клуб Run4Fun.by
BEGIN:VEVENT
DTSTART;TZID=UTC+3:20190629T090000
DTEND;TZID=UTC+3:20190629T140000
DTSTAMP:20260423T201142
CREATED:20190610T183433Z
LAST-MODIFIED:20190610T185748Z
UID:5195-1561798800-1561816800@run4fun.by
SUMMARY:Летний кубок по бегу\, Курган Славы
DESCRIPTION:29 июня на территории мемориального комплекса «Курган Славы» в г. Гродно пройдет Летний кубок по бегу\, 3 этап из цикла Открытого кубка по бегу «4 сезона».  \nСпециально для вас уже полюбившиеся дистанции 5 и 10 км. \nСтартовый пакет включает: \n— оригинальная медаль финишера; \n— номер участника  \n— тайминг \n— вкусный обед \n— подарки от спонсоров \n  \nПриглашаем принять участие!  \n  \nДата: 29 июня 2019 \nМесто проведения: г.Гродно\, мемориальный комплекс «Курган Славы» \nВремя: 9.00-14.00 \nСтоимость: 20 р. — при предварительной регистрации и оплате до 26.06.2019 \n                    25 р. — при предварительной регистрации и оплате на месте регистрации \n                    30 р. — без предварительной регистрации \n  \nОплата регистрационного взноса на расчетный счет организатора:  \nИндивидуальный предприниматель Матвеенок Вадим Васильевич г. Гродно\, ул. Молодая\, д.73. Р/с BY64 BPSB 3013 1267 5301 2933 0000 в Региональной дирекции № 400 ОАО «БПС-Сбербанк»\, г.Гродно\, код банка BPSBBY2X\, УНП 590691884 \nОплата стартового взноса за участие в соревнованиях. Указать (Ф.И.О) \nДистанции: 5 км\, 10 км \nРегистрация: https://b4sportonline.pl/MKDsport_bel/index \nПодробности в соцсетях: www.instagram.com/mkdsport_by \n
URL:https://run4fun.by/event/letnij-kubok-po-begu-kurgan-slavy/
LOCATION:Гродно\, Курган Славы\, Курган Славы\, Гродно\, Гродно\, Беларусь
CATEGORIES:10 км,5 км
ATTACH;FMTTYPE=image/jpeg:https://run4fun.by/wp-content/uploads/2019/06/kurgan-1.jpg
END:VEVENT
END:VCALENDAR