BEGIN:VCALENDAR
VERSION:2.0
PRODID:-//Беговой клуб Run4Fun.by - ECPv4.7.4//NONSGML v1.0//EN
CALSCALE:GREGORIAN
METHOD:PUBLISH
X-WR-CALNAME:Беговой клуб Run4Fun.by
X-ORIGINAL-URL:https://run4fun.by
X-WR-CALDESC:Events for Беговой клуб Run4Fun.by
BEGIN:VEVENT
DTSTART;VALUE=DATE:20240629
DTEND;VALUE=DATE:20240630
DTSTAMP:20260423T183353
CREATED:20240219T141756Z
LAST-MODIFIED:20240219T141756Z
UID:6970-1719619200-1719705599@run4fun.by
SUMMARY:Марафон Белые ночи
DESCRIPTION:33-й марафон «Белые ночи» состоится 29 июня 2024 года. \nСтарт полной марафонской дистанции назначен на 22:00. Старт на 10 км — на 21:00. Таким марафон задумывался ещё в 1990 году. Благодаря вечернему формату проведения марафонцы больше не будут бороться с июньской жарой. Участники смогут показать высокие результаты и насладиться красотой тех самых белых ночей\, которые дали имя забегу. \nВ этом году старт и финиш забега будут находиться в разных местах. Маршрут обеих дистанций начнётся от Газпром Арены и завершится на Дворцовой площади. Обновлённый маршрут и неизменно любимый город станут идеальным сочетанием для нового бегового приключения. \nОбразы Петербурга нашли отражение в новом логотипе и стиле оформления мероприятия. Главными символами стали фигуры мифических существ\, которых участники встретят на улицах города. \nНе упустите уникальную возможность насладиться красотой ночного Петербурга на бегу! \n
URL:https://run4fun.by/event/marafon-belye-nochi/
LOCATION:Газпром Арена\, Санкт-Петербург\, Российская Федерация
CATEGORIES:10 км,42 км
ATTACH;FMTTYPE=image/jpeg:https://run4fun.by/wp-content/uploads/2024/02/WhiteNights_Photo_01.jpg
END:VEVENT
END:VCALENDAR