BEGIN:VCALENDAR
VERSION:2.0
PRODID:-//Беговой клуб Run4Fun.by - ECPv4.7.4//NONSGML v1.0//EN
CALSCALE:GREGORIAN
METHOD:PUBLISH
X-WR-CALNAME:Беговой клуб Run4Fun.by
X-ORIGINAL-URL:https://run4fun.by
X-WR-CALDESC:Events for Беговой клуб Run4Fun.by
BEGIN:VEVENT
DTSTART;VALUE=DATE:20200425
DTEND;VALUE=DATE:20200426
DTSTAMP:20260423T182507
CREATED:20200414T135926Z
LAST-MODIFIED:20200414T205532Z
UID:5925-1587772800-1587859199@run4fun.by
SUMMARY:Run4Fun Online Run 5 km
DESCRIPTION:Rules/Положение: \nWhere/Где? — Online in your town/ Online в своем городе \nWhen/Когда? — 25.04.2020\, During the day/ 25.04.2020\, Весь день \nDistance/Дистанция: 5 km/5 км \nImportant/ Важно: Keep a safe distance at the start and during running/ Сохраняйте безопасную дистанцию на старте и во время бега. \nPreferably/По возможности: Release online your picture including track screenshot with hashtag #run4fun_5k/Опубликовать в соцсетях фото с пробежки\, включая скриншот трэка с хэштэгом #run4fun_5k \nResults/Результаты: Send your results in email run4fun.by@gmail.com indicating your name and surname/ Отправляйте свои результаты на почту run4fun.by@gmail.com с указанием имени и фамилии. \nParticipation/Участие: Free/Бесплатно \nПорядковый номерИмяДистанцияКлуб / Название компании1Ольга5кмRun4fun2Артём5RUN4FUN.BY3Александр54Yaraslau5kmRUN4FUN.BY5Алексей5Run4fun.by6Татьяна57Яна5 кмСама за себя любимую;)8Жанна5 кмRUN4FUN9Заяц5 кмrun4fun.by10Siarhei5RUN4FUN.BY11Дмитрий5Виктория12Александр5 кмrun4fun.by13Vladimir5kmDovydko Running club14Алессио5 кмRun4Fun15Илья5Run4fun16Фёдор5 kmrun4fun.by17Дмитрий5Run4Fun18Pavlo5 км\"Біговий Чернігів\"19Александр5km.IRun Brest / BrestRunners20Елена5 км21Константин5KVITNEYRUN22Инна5RUN4FUN.BY23Николай5run4fun24Юрий5RUN4FUN.BY25Виталий5RUN4FUN26Олег5kmRun4Fun27Денис5 kmRun4Fan28Анна5 кмYELLOW CAP RUN29Jolita5-30Aidas5Legionas31Maxim5Rosinca32Сергей5kmRun4Fun33Neringa5kmBėgimo klubas34Tvoe5RUN4FUN.BY35егор5kminstinctools36Артемий5Run4fun.by37Юрий5кмRUN4FUN. by38Карина4300Run4fun.by39Саша5 кмRun4fun.by40Иван5000 м41Василий5RUN4FUN42Filipe5 kmMolinhas Team43Liudmila5run4fun.by44Ксения5Гродненская45Юлия5кмRun4Fun46Ян5 км47Эдуард5 кмRun4fun48Валерия5 кмRun4Fun.by49Миша50Ольга5Run4Fun.by51Andris5km52Evaldas5 kmFor Fun53Терменёв5RUN4FUN.BY54Игорь5 кмRUN4FUN55Ярош5 кмRun4fun.by56Barys5 кмКабанчик57Alexey5Run4fun/instinctools58Аляксандр5км59Олег5кмВелоГродно60Taha5kmMikkeller minsk running club61Marcin5 kmBiałostocka Sekta Biegaczy62Яна5 кмRun4Fun.by63Danielius5 kmFor fun64Дмитрий5кмRun4fun.by/instinctools65Юлия566Вероника5 km67Полина5Runos68ABDIKADIR Hassan5Run4fun.by69Екатерина5IRUN\, Brest Ranners70Анастасия5КАБ71Barbara5 kmBiałostocka Sekta Biegaczy72Екатерина73Евгений5 кмStreet Workout74Анна5 krun4fun.by75Наталья5 кмГроднооблспорт76Вячеслав5000DMRUNNING77Андрей78Сергей5run4fun.by79Александр5Sozh River Runners80Никита5 кмRun4fun81Мария5IRUN82Виталий5IRUN83Ирина5 кмКЛБ СОЖ84Елена5 кмRUN4FUN.BY85Елена5kSozh River Runners86Виталий5Run4fun87Елена5RUN4FUN88Бурак589Виталий5RUN4FUN90Анна5Нет91Виктор5 кмRUN4FUN.BY92Алексей593Святослав5 kRUN4FUN.BY94Artur5Fan4fun95Сергей5Run4fun.by96Yahor5BrestRunners97Татьяна5Аматар98Юлия5 км99Валентин5 км.Свитанок100Виталий5run4fun.by101Никита5 кмRun4fun102Александр5 кмRun4Fun103Игорь5104Маргарита5Порядковый номерИмяДистанцияКлуб / Название компании\n
URL:https://run4fun.by/event/run4fun-online-run-5-km/
CATEGORIES:5 км
ATTACH;FMTTYPE=image/jpeg:https://run4fun.by/wp-content/uploads/2020/04/r4f_logo.jpg
ORGANIZER;CN="%D0%9E%D0%9E%20%22%D0%A1%D0%9A%20%D0%A0%D0%B0%D0%BD4%D0%A4%D0%B0%D0%BD%22":MAILTO:run4fun.by@gmail.com
END:VEVENT
END:VCALENDAR