BEGIN:VCALENDAR
VERSION:2.0
PRODID:-//Беговой клуб Run4Fun.by - ECPv4.7.4//NONSGML v1.0//EN
CALSCALE:GREGORIAN
METHOD:PUBLISH
X-WR-CALNAME:Беговой клуб Run4Fun.by
X-ORIGINAL-URL:https://run4fun.by
X-WR-CALDESC:Events for Беговой клуб Run4Fun.by
BEGIN:VEVENT
DTSTART;VALUE=DATE:20200822
DTEND;VALUE=DATE:20200823
DTSTAMP:20260423T182741
CREATED:20200126T093508Z
LAST-MODIFIED:20200701T195814Z
UID:5859-1598054400-1598140799@run4fun.by
SUMMARY:Трэйл «Августовский канал» 2020
DESCRIPTION:РЕГЛАМЕНТ АВГУСТОВСКИЙ КАНАЛ-ТРЕЙЛ \nМесто\, дистанции\, дата и время \nг.Гродно\, Гродненский район\, Августовский канал\, шлюз «Домбровка». \n22 августа\, 2020 года. \nдистанции: 7 км и 21 км. \nСтарт в 11.00 \n \nРегистрация и стартовый взнос \nСтартовый взнос: \nНа дистанциях 7\, 21 км \n20\,00 руб. (двадцать бел. рублей) при оплате за месяц до старта; \n30\,00 руб. тридцать бел. рублей) при оплате за 10 дней до старта; \n40\,00 руб. (сорок бел. рублей) при оплате за день до старта. \nСредства\, полученные от оплаты заявочного взноса\, расходуются на финансирование проведения соревнований. \nОнлайн-регистрация продлится до 19 августа  2020 года\, 20 и 21 августа 2020 года можно будет зарегистрироваться в месте выдачи нагрудных номеров. \nПосле финиша \nРезультаты забегов фиксируются электронной системой хронометража. \nВаш личный результат будет измерен при пересечении линии старта и финиша. \nПожалуйста\, прикрепите ваш стартовый номер на груди\, чтобы судьи его видели. \nИтоговые результаты будут опубликованы на сайте www.42195.by \n
URL:https://run4fun.by/event/trejl-avgustovskij-kanal-2020/
LOCATION:г.Гродно\, Гродненский район\, Августовский канал\, шлюз «Домбровка».\, Гродно\, Беларусь
CATEGORIES:7 км,Полумарафон
ATTACH;FMTTYPE=image/jpeg:https://run4fun.by/wp-content/uploads/2020/01/-канал-трэйл-2-e1580026475450.jpg
END:VEVENT
END:VCALENDAR