BEGIN:VCALENDAR
VERSION:2.0
PRODID:-//Беговой клуб Run4Fun.by - ECPv4.7.4//NONSGML v1.0//EN
CALSCALE:GREGORIAN
METHOD:PUBLISH
X-WR-CALNAME:Беговой клуб Run4Fun.by
X-ORIGINAL-URL:https://run4fun.by
X-WR-CALDESC:Events for Беговой клуб Run4Fun.by
BEGIN:VEVENT
DTSTART;VALUE=DATE:20240623
DTEND;VALUE=DATE:20240624
DTSTAMP:20260423T170422
CREATED:20240408T065936Z
LAST-MODIFIED:20240529T103622Z
UID:7132-1719100800-1719187199@run4fun.by
SUMMARY:Твой забег Шклов
DESCRIPTION:\n\n\n\n\n\n\n\n\n\nЦели соревнования\n\nЛегкоатлетические соревнования «Твой Забег» (далее – Cоревнования) проводятся с целью: \n— пропаганды здорового образа жизни и приобщения различных слоев населения к активным занятиям физической культурой и спортом; \n— развития массового спорта. \n\nРуководство и организация проведения соревнований\n\n2.1. Общее руководство организацией и проведением соревнований осуществляется организационным комитетом (далее — Организаторы)\, в состав которого входят представители сектора спорта и туризма Шкловского райисполкома\, ЧТУП «АУРУМ ГРУПП»\, ООО «Тайминг компания 42195». \n2.2. Связаться с организаторами можно по телефонам: +375(29)7446446 либо по электронной почте:info@runonline.by \n\nВремя и место проведения\n\n3.1.  Соревнования состоятся 23 июня 2024 г.  Время старта – 10.00. \n3.2. Место проведения соревнований Государственное учреждение «Специализированная детско-юношеская школа олимпийского резерва Шкловского района» лыжероллерная трасса и прилегающая территория. Старт и финиш возле ледовой арены г. Шклова. \n\nУчастники соревнований\n\n4.1. Соревнования проводятся на дистанциях 1 км\, 5 км\, 10 км\, 21 км \n4.2. К участию в Соревновании на дистанцию 21 км допускаются все желающие в возрасте от 18 лет и старше. Лимит участников составляет 50 человек \n4.3. К участию в Соревновании на дистанцию 5км и 10 км допускаются все желающие в возрасте от 14 лет и старше. Лимит участников 60 и 50 человек соответственно. \n4.4. К участию в Соревновании на дистанцию 1 км допускаются дети в возрасте от 3 до 13 лет. Лимит составляет 40 человек. \n4.5. Минимально допустимый Возраст участника Соревнования определяется на момент фактической даты проведения Соревнования — 23.06.2024. \n4.6. Принимая участие в забеге\, участник подтверждает\, что регулярно проходит медицинские обследования\, не имеет каких-либо медицинских или иных ограничений по здоровью\, которые могут подвергнуть опасности или ограничить его участие в забеге\, в том числе не имеет противопоказаний к длительным физическим нагрузкам и состояние его здоровья позволяет ему участвовать в забеге\, и принимает на себя все риски и негативные последствия\, связанные с нарушением данного условия. \n4.7. Каждый участник\, регистрируясь\, соглашается\, что все сделанные во время соревнований фотографии и снятые на плёнку материалы могут использоваться организаторами в рекламных целях без отдельного на то согласия. \n4.8. Участникам и членам команды поддержки запрещается пользоваться различными средствами передвижения на колёсах (велосипедами\, роликами и др.)\, личным эскортом\, прогуливать собак. Участникам соревнований строго запрещается отклоняться от трассы пробега без разрешения судей. Нарушив вышеупомянутые правила\, участник дисквалифицируется. \n\nРегистрация\n\n5.1. Электронная регистрация участников Соревнования будет открыта с 15:00 15.01.2024 до 17:00 21.06.2024 на сайте 42195.by. \n5.1.1. При регистрации участник обязан указывать персональные данные в соответствии с паспортом. \n5.1.2. Участник считается зарегистрированным\, если он заполнил регистрационную форму и оплатил регистрационный взнос. \n5.1.3. Регистрация участника аннулируется\, если участником указаны ложные\, неточные или неполные данные. В случае аннулирования регистрации денежные средства не возвращаются. \n5.2. Дополнительная регистрация участников\, при наличии свободных слотов\, на Соревнование будет проводиться во время выдачи стартовых пакетов 22.06.2024. \n5.3. Дополнительная регистрация на Соревнование в день проведения Соревнования\, 23.06.2024\, не производится \n5.4. Оплаченная регистрация на Соревнование отмене не подлежит\, регистрационный взнос не возвращается. \n\n6.1. Регистрационный взнос для дистанций 21\, 10 и 5 км \n6.1.1. Размер регистрационного взноса составляет: \n— при оплате с 15.01.2024 по 31.03.2024 —50 рублей; \n— при оплате с 01.04.2024 по 21.06.2024 —65 рублей; \n— при оплате 22.06.2024 — 100 рублей. \n6.2. Размер регистрационного взноса для дистанции 1 км составляет 5 рублей \n6.3. Оплата регистрационного взноса \n6.3.1. Оплата регистрационного взноса электронным платежом с 15.01.2024 по 21.06.2024 осуществляется на сайте 42195.by \n6.3.2. Оплата регистрационного взноса во время выдачи стартовых пакетов 22.06.2024 осуществляется только в наличной форме. \n  \n\n
URL:https://run4fun.by/event/tvoj-zabeg/
LOCATION:Шклов\, Беларусь
CATEGORIES:1 км,10 км,21 км,5 км
ATTACH;FMTTYPE=image/png:https://run4fun.by/wp-content/uploads/2024/04/170479213964.png
END:VEVENT
END:VCALENDAR