BEGIN:VCALENDAR
VERSION:2.0
PRODID:-//Беговой клуб Run4Fun.by - ECPv4.7.4//NONSGML v1.0//EN
CALSCALE:GREGORIAN
METHOD:PUBLISH
X-WR-CALNAME:Беговой клуб Run4Fun.by
X-ORIGINAL-URL:https://run4fun.by
X-WR-CALDESC:Events for Беговой клуб Run4Fun.by
BEGIN:VEVENT
DTSTART;TZID=UTC+3:20190414T080000
DTEND;TZID=UTC+3:20190414T170000
DTSTAMP:20260425T114315
CREATED:20190116T103439Z
LAST-MODIFIED:20190122T131633Z
UID:4232-1555228800-1555261200@run4fun.by
SUMMARY:Варшавский марафон Orlen 2019
DESCRIPTION:Ежегодный Варшавский марафон Orlen предлагает 2 дистанции на выбор: 10 км и 42\,2 км \nВаршавский марафон Orlen — это крупнейший марафон в Польше. Имеет серебряный статус в классификации шоссейных бегов. Около 25000 участников на старте. Это лишь малая часть положительных сторон этого пробега. Клуб Run4Fun.by в очередной раз собирается покорить 2 дистанции этого мероприятия. Присоединяйся и начинай готовиться\, времени осталось очень мало! \nРегламент доступен по ссылке https://orlenmarathon.pl/pdf/Regulamin-Maraton.pdf \n
URL:https://run4fun.by/event/varshavskij-marafon-orlen-2019/
LOCATION:PGE Stadion Norodowy\, al. Księcia Józefa Poniatowskiego 1\, Варшава\, Польша
CATEGORIES:10 км,Марафон
ATTACH;FMTTYPE=image/png:https://run4fun.by/wp-content/uploads/2019/01/orlen.png
END:VEVENT
END:VCALENDAR