BEGIN:VCALENDAR
VERSION:2.0
PRODID:-//Беговой клуб Run4Fun.by - ECPv4.7.4//NONSGML v1.0//EN
CALSCALE:GREGORIAN
METHOD:PUBLISH
X-WR-CALNAME:Беговой клуб Run4Fun.by
X-ORIGINAL-URL:https://run4fun.by
X-WR-CALDESC:Events for Беговой клуб Run4Fun.by
BEGIN:VEVENT
DTSTART;TZID=UTC+3:20200125T100000
DTEND;TZID=UTC+3:20200125T180000
DTSTAMP:20260423T182829
CREATED:20191128T194508Z
LAST-MODIFIED:20200116T191905Z
UID:5696-1579946400-1579975200@run4fun.by
SUMMARY:VIII Открытый чемпионат РБ среди ветеранов лёгкой атлетики
DESCRIPTION:\nVIII Открытый Чемпионат Республики Беларусь по легкой атлетике в закрытых помещениях среди ветеранов и  I-ый Открытый международный командный турнир «Minsk Masters Cup» \n\n \n1.Цели и задачи \nСоревнования проводятся в целях пропаганды здорового образа жизни\, развития легкоатлетического ветеранского движения и привлечения к занятиям легкой атлетикой граждан всех возрастных групп. \nЗадачами являются отбор кандидатов (женщин и мужчин) в состав национальной команды Республики Беларусь Masters для участия в международных соревнованиях (чемпионатах Мира\, Европы и чемпионатах зарубежных стран); повышение уровня спортивного мастерства ветеранов; укрепление взаимопонимания и международного спортивного сотрудничества при посредничестве мастеров легкой атлетики. \n2.Сроки и место \nСоревнования проводятся 25 января 2020 года с 10.00 до 18.00 в Минске по адресу ул. Калиновского 111\, легкоатлетический манеж Республиканского центра олимпийской подготовки по легкой атлетике. \n3.Организаторы \nОрганизаторами соревнований являются Общественное   объединение «Белорусская федерация легкой атлетики» (далее ОО «БФЛА») и Республиканский центр олимпийской подготовки по легкой атлетике. \n4.Участники \nК участию в соревнованиях допускаются мужчины и женщины\, чей возраст на 25 января 2020 года составляет 35 лет и старше на основании согласия на участие в соревнованиях\, оригинала (ксерокопии) документа\, удостоверяющего личность. Каждый спортсмен\, зарегистрировавшийся на участие в соревнованиях на сайте www.42195.by в установленном порядке\, несет личную ответственность за свою жизнь и состояние своего здоровья во время соревнований. \n5.Программа \nМужчины и женщины: бег на 60 м\, 200 м\, 400 м\, 800 м\, 3000 м\, спортивная ходьба на 3000 м\, прыжки в высоту\, прыжки в длину\, толкание ядра\, эстафетный бег (4х200 м). Каждый участник имеет право выступать не более чем в трех дисциплинах\, плюс эстафета. \n
URL:https://run4fun.by/event/viii-otkrytyj-chempionat-rb-sredi-veteranov/
LOCATION:Минск\, Минск\, Беларусь
CATEGORIES:200 м,3 км,400 м,60 м,800 м
ATTACH;FMTTYPE=image/jpeg:https://run4fun.by/wp-content/uploads/2019/11/BFLA-1.jpg
END:VEVENT
END:VCALENDAR