BEGIN:VCALENDAR
VERSION:2.0
PRODID:-//Беговой клуб Run4Fun.by - ECPv4.7.4//NONSGML v1.0//EN
CALSCALE:GREGORIAN
METHOD:PUBLISH
X-WR-CALNAME:Беговой клуб Run4Fun.by
X-ORIGINAL-URL:https://run4fun.by
X-WR-CALDESC:Events for Беговой клуб Run4Fun.by
BEGIN:VEVENT
DTSTART;VALUE=DATE:20240218
DTEND;VALUE=DATE:20240219
DTSTAMP:20260423T184038
CREATED:20240215T130204Z
LAST-MODIFIED:20240215T130414Z
UID:6886-1708214400-1708300799@run4fun.by
SUMMARY:ЗАКАЛФест Бобруйск
DESCRIPTION:ЗакалФест\, Фестиваль Закаливания. \n  \nВирусы\, простуды\, плохое самочувствие\, отвратительное настроение – всего этого можно избежать\, если заниматься спортом и постепенно втянутся в Закаливание. Все что нужно сделать – это встать пораньше\, сделать зарядку и обтереться мокрым полотенцем при открытой форточке и  Вы сразу получите по крайней мере прекрасное настроение и хороший заряд на предстоящий день. Дальше – больше\, пробежка на улице в легкой майке\, голый торс\, обливание\, контрастный душ\, окунание в речке и финал – небольшой  ( метров 15-20) заплыв.  Всего этого можно достичь если соблюдать  постепенность ( шаг за шагом) и постоянство. Если Вы предварительно сделали пусть даже несколько шагов — тогда Вам к нам. \n  \nДата и время старта\, место \n  \nг.Бобруйск\, спортивный комплекс «Бобруйск Арена»   18 февраля\, 2024 г. начало в 12.00 \n  \nПрограмма\, дистанции\, награждение \n  \nТрасса забегов проходят по историческому парку со стартом и финишем около спортивного комплекса «Бобруйск Арена» \nНа дистанции 2км\, 5 км\,10 км без учета времени ( темп бега 6-7 минут).На финише каждый участник получает памятный сертификат. \nНа дистанции 15км  с учетом времени и в возрастных группах: 40 лет и моложе\, 41 год и старше\, с обязательным обливанием не менее трех раз и пробежке босиком по снегу 50 метров награждение победителей призом и медалью\, призеров медалями. \nДресс-код: \nМужчины шорты\, голый торс. \nЖенщины шорты\, боди. \nНачинающим рекомендуется летняя спортивная форма \nТакже планируется передвижная сауна на месте старта/финиша где можно поле водных процедур согреться \n
URL:https://run4fun.by/event/zakalfest-bobrujsk/
LOCATION:спортивный комплекс «Бобруйск Арена»\, Бобруйск
CATEGORIES:10 км,2 км,5 км
ATTACH;FMTTYPE=image/png:https://run4fun.by/wp-content/uploads/2024/02/170609097320.png
END:VEVENT
END:VCALENDAR